BEGIN:VCALENDAR
VERSION:2.0
PRODID:-//eventon.com NONSGML v1.0//EN
BEGIN:VEVENT
UID:69eb8084cb7ef
DTSTAMP:20260424T143900
DTSTART:20200131T200000Z
DTEND:20200131T235000Z
LOCATION:Südufer Haslacher Straße 41\,  Freiburg
SUMMARY:Moments of Freedom
DESCRIPTION: Improvisationen mit Christine Kallfaß (Klavier / Stimme) Hartmut Nold (Vibraphon) Walter-Michael Vollhardt (Violonello) Jens Reichert (Lichtinstallation - Licht in Bewegung - Skulptur)
END:VEVENT
END:VCALENDAR