BEGIN:VCALENDAR
VERSION:2.0
PRODID:-//eventon.com NONSGML v1.0//EN
BEGIN:VEVENT
UID:69eb802f13fd7
DTSTAMP:20260424T143735
DTSTART:20200403T000000Z
DTEND:20200403T235900Z
LOCATION:
SUMMARY:Orquesta Sinfonica Jovem do Rio de Janeiro
DESCRIPTION: Leitung des Orquesta Sinfonica Jovem do Rio de Janeiro
END:VEVENT
END:VCALENDAR