BEGIN:VCALENDAR
VERSION:2.0
PRODID:-//eventon.com NONSGML v1.0//EN
BEGIN:VEVENT
UID:69eb7f891a1ae
DTSTAMP:20260424T143449
DTSTART:20200721T000000Z
DTEND:20200730T235900Z
LOCATION:
SUMMARY:Biennale Santa Severina
DESCRIPTION: Biennale Santa Severina
END:VEVENT
END:VCALENDAR