BEGIN:VCALENDAR
VERSION:2.0
PRODID:-//eventon.com NONSGML v1.0//EN
BEGIN:VEVENT
UID:69eb804289875
DTSTAMP:20260424T143754
DTSTART:20200925T000000Z
DTEND:20201003T235900Z
LOCATION:
SUMMARY:Orquestra Sinfonica del Teatro Ruben Dario
DESCRIPTION: Konzert mit dem Orquestra Sinfonica del Teatro Ruben Dario zum 250. Geburtstag von Ludwig van Beethoven
END:VEVENT
END:VCALENDAR