BEGIN:VCALENDAR
VERSION:2.0
PRODID:-//eventon.com NONSGML v1.0//EN
BEGIN:VEVENT
UID:69eb80ce1ab9e
DTSTAMP:20260424T144014
DTSTART:20201025T170000Z
DTEND:20201025T235000Z
LOCATION:
SUMMARY:MUSON Festival
DESCRIPTION: Leitung des MUSON Symphony Orchestra
END:VEVENT
END:VCALENDAR