BEGIN:VCALENDAR
VERSION:2.0
PRODID:-//eventon.com NONSGML v1.0//EN
BEGIN:VEVENT
UID:69eb7fcede8bb
DTSTAMP:20260424T143558
DTSTART:20201101T110000Z
DTEND:20201101T235000Z
LOCATION:Colombischlössle Rotteckring 5
SUMMARY:Duo Percucello
DESCRIPTION: Michael Vollhardt - Cello Pape Dieye - Percussion Treppenhauskonzert Colombischlösschen -Duo Percucello-
END:VEVENT
END:VCALENDAR