BEGIN:VCALENDAR
VERSION:2.0
PRODID:-//eventon.com NONSGML v1.0//EN
BEGIN:VEVENT
UID:69eb8084cb055
DTSTAMP:20260424T143900
DTSTART:20201129T190000Z
DTEND:20201129T235000Z
LOCATION:Stadthalle Tuttlingen Königstraße 39
SUMMARY:Konzert zum 95. Geburtstag von Siegfried Burger
DESCRIPTION: Uraufführung des Cellokonzertes „Im Donautal“ Tuttlinger Kammerorchester
END:VEVENT
END:VCALENDAR