BEGIN:VCALENDAR
VERSION:2.0
PRODID:-//eventon.com NONSGML v1.0//EN
BEGIN:VEVENT
UID:69e73362411e9
DTSTAMP:20260421T082050
DTSTART:20201220T180000Z
DTEND:20201220T235000Z
LOCATION:Abuja International Conference Centre 11\,  Central Area\,  Area\,  900 Herbert Macaulay Way\,  900001\,  Abuja\,  Nigeria
SUMMARY:Festival of Praise
DESCRIPTION: Leitung des Mass Choir und des Orquestra of the Festival of Praise
END:VEVENT
END:VCALENDAR