BEGIN:VCALENDAR
VERSION:2.0
PRODID:-//eventon.com NONSGML v1.0//EN
BEGIN:VEVENT
UID:69eb804288acb
DTSTAMP:20260424T143754
DTSTART:20200517T170000Z
DTEND:20200517T235000Z
LOCATION:Skulpturenhalle der Stiftung für Konkrete Kunst\,  Freiburg i. Br. Pochgasse 73\,  79104 Freiburg
SUMMARY:Duo Percucello
DESCRIPTION: Michael Vollhardt - Cello Pape Dieye - Percussion
END:VEVENT
END:VCALENDAR