BEGIN:VCALENDAR
VERSION:2.0
PRODID:-//eventon.com NONSGML v1.0//EN
BEGIN:VEVENT
UID:69eb7fcedcc35
DTSTAMP:20260424T143558
DTSTART:20200523T180000Z
DTEND:20200523T235000Z
LOCATION:Ateliers ouverts 
SUMMARY:Duo Percucello
DESCRIPTION: Michael Vollhardt - Cello Pape Dieye - Percussion
END:VEVENT
END:VCALENDAR