BEGIN:VCALENDAR
VERSION:2.0
PRODID:-//eventon.com NONSGML v1.0//EN
BEGIN:VEVENT
UID:69ead2512ece4
DTSTAMP:20260424T021545
DTSTART:20201011T100000Z
DTEND:20201011T235000Z
LOCATION:
SUMMARY:125 Jahre Erlöserkirche Freiburg
DESCRIPTION: Cello plus Chor
END:VEVENT
END:VCALENDAR