BEGIN:VCALENDAR
VERSION:2.0
PRODID:-//eventon.com NONSGML v1.0//EN
BEGIN:VEVENT
UID:69eb7f3ccf8c1
DTSTAMP:20260424T143332
DTSTART:20200715T000000Z
DTEND:20200720T235900Z
LOCATION:
SUMMARY:Positano International Chamber Music Festival (ICMC)
DESCRIPTION: Positano International Chamber Music Festival (ICMC)
END:VEVENT
END:VCALENDAR