BEGIN:VCALENDAR
VERSION:2.0
PRODID:-//eventon.com NONSGML v1.0//EN
BEGIN:VEVENT
UID:69eb7ff1b6ee2
DTSTAMP:20260424T143633
DTSTART:20200920T160000Z
DTEND:20200920T190000Z
LOCATION:
SUMMARY:Klingendes Musikerviertel
DESCRIPTION: LEPORELLO
END:VEVENT
END:VCALENDAR