BEGIN:VCALENDAR
VERSION:2.0
PRODID:-//eventon.com NONSGML v1.0//EN
BEGIN:VEVENT
UID:69e88bc73e3e5
DTSTAMP:20260422T085015
DTSTART:20221021T000000Z
DTEND:20221030T235900Z
LOCATION:Shell Nigeria Hall 
SUMMARY:Gala Concert - MUSON Symphony Orchestra
DESCRIPTION: Jonathan Anuforo\,  Gabriel Adedeji\,  Arte Shaw\,  Fela Sowande\,  Fela Kuti\,  Camille Sains-Saent\,  Jules Massenet
END:VEVENT
END:VCALENDAR